BEGIN:VCALENDAR
VERSION:2.0
PRODID:-//From The Infield - ECPv6.2.8.2//NONSGML v1.0//EN
CALSCALE:GREGORIAN
METHOD:PUBLISH
X-ORIGINAL-URL:https://fromtheinfield.com
X-WR-CALDESC:Events for From The Infield
REFRESH-INTERVAL;VALUE=DURATION:PT1H
X-Robots-Tag:noindex
X-PUBLISHED-TTL:PT1H
BEGIN:VTIMEZONE
TZID:America/New_York
BEGIN:DAYLIGHT
TZOFFSETFROM:-0500
TZOFFSETTO:-0400
TZNAME:EDT
DTSTART:20250309T070000
END:DAYLIGHT
BEGIN:STANDARD
TZOFFSETFROM:-0400
TZOFFSETTO:-0500
TZNAME:EST
DTSTART:20251102T060000
END:STANDARD
END:VTIMEZONE
BEGIN:VEVENT
DTSTART;TZID=America/New_York:20250601T103000
DTEND;TZID=America/New_York:20250601T103000
DTSTAMP:20260421T023338
CREATED:20241229T221651Z
LAST-MODIFIED:20241229T221651Z
UID:1819-1748773800-1748773800@fromtheinfield.com
SUMMARY:Detroit Grand Prix
DESCRIPTION:
URL:https://fromtheinfield.com/index.php/scedules/detroit-grand-prix/
LOCATION:Detroit Street Course\, 1 Atwater St\, Detroit\, MI\, 48226\, United States
CATEGORIES:INDY NXT
ATTACH;FMTTYPE=image/png:https://fromtheinfield.com/wp-content/uploads/2023/12/INDYNXT.png
END:VEVENT
BEGIN:VEVENT
DTSTART;TZID=America/New_York:20250615T120000
DTEND;TZID=America/New_York:20250615T120000
DTSTAMP:20260421T023338
CREATED:20241229T221652Z
LAST-MODIFIED:20241229T221652Z
UID:1820-1749988800-1749988800@fromtheinfield.com
SUMMARY:INDY NXT by Firestone at World Wide Technology Raceway
DESCRIPTION:
URL:https://fromtheinfield.com/index.php/scedules/indy-nxt-by-firestone-at-world-wide-technology-raceway/
LOCATION:World Wide Technology Raceway\, 700 Raceway Blvd\, Madison\, IL\, 62060\, United States
CATEGORIES:INDY NXT
ATTACH;FMTTYPE=image/png:https://fromtheinfield.com/wp-content/uploads/2023/12/INDYNXT.png
END:VEVENT
BEGIN:VEVENT
DTSTART;TZID=America/New_York:20250622T130000
DTEND;TZID=America/New_York:20250622T130000
DTSTAMP:20260421T023338
CREATED:20241229T221652Z
LAST-MODIFIED:20241229T221652Z
UID:1821-1750597200-1750597200@fromtheinfield.com
SUMMARY:Grand Prix at Road America
DESCRIPTION:
URL:https://fromtheinfield.com/index.php/scedules/grand-prix-at-road-america/
LOCATION:Road America\, N 7390 WI-67\, Plymouth\, WI\, 53073\, United States
CATEGORIES:INDY NXT
ATTACH;FMTTYPE=image/png:https://fromtheinfield.com/wp-content/uploads/2023/12/INDYNXT.png
END:VEVENT
END:VCALENDAR