BEGIN:VCALENDAR
VERSION:2.0
PRODID:-//From The Infield - ECPv6.2.8.2//NONSGML v1.0//EN
CALSCALE:GREGORIAN
METHOD:PUBLISH
X-ORIGINAL-URL:https://fromtheinfield.com
X-WR-CALDESC:Events for From The Infield
REFRESH-INTERVAL;VALUE=DURATION:PT1H
X-Robots-Tag:noindex
X-PUBLISHED-TTL:PT1H
BEGIN:VTIMEZONE
TZID:America/New_York
BEGIN:DAYLIGHT
TZOFFSETFROM:-0500
TZOFFSETTO:-0400
TZNAME:EDT
DTSTART:20250309T070000
END:DAYLIGHT
BEGIN:STANDARD
TZOFFSETFROM:-0400
TZOFFSETTO:-0500
TZNAME:EST
DTSTART:20251102T060000
END:STANDARD
END:VTIMEZONE
BEGIN:VEVENT
DTSTART;TZID=America/New_York:20250831T113000
DTEND;TZID=America/New_York:20250831T113000
DTSTAMP:20260421T005021
CREATED:20241229T221708Z
LAST-MODIFIED:20241229T221708Z
UID:1828-1756639800-1756639800@fromtheinfield.com
SUMMARY:Music City Grand Prix
DESCRIPTION:
URL:https://fromtheinfield.com/index.php/scedules/music-city-grand-prix/
LOCATION:Nashville Superspeedway\, 4847-F McCrary Rd\, Lebanon\, TN\, 37090\, United States
CATEGORIES:INDY NXT
ATTACH;FMTTYPE=image/png:https://fromtheinfield.com/wp-content/uploads/2023/12/INDYNXT.png
END:VEVENT
END:VCALENDAR