BEGIN:VCALENDAR
VERSION:2.0
PRODID:-//From The Infield - ECPv6.2.8.2//NONSGML v1.0//EN
CALSCALE:GREGORIAN
METHOD:PUBLISH
X-ORIGINAL-URL:https://fromtheinfield.com
X-WR-CALDESC:Events for From The Infield
REFRESH-INTERVAL;VALUE=DURATION:PT1H
X-Robots-Tag:noindex
X-PUBLISHED-TTL:PT1H
BEGIN:VTIMEZONE
TZID:America/New_York
BEGIN:DAYLIGHT
TZOFFSETFROM:-0500
TZOFFSETTO:-0400
TZNAME:EDT
DTSTART:20250309T070000
END:DAYLIGHT
BEGIN:STANDARD
TZOFFSETFROM:-0400
TZOFFSETTO:-0500
TZNAME:EST
DTSTART:20251102T060000
END:STANDARD
END:VTIMEZONE
BEGIN:VEVENT
DTSTART;TZID=America/New_York:20250302T120000
DTEND;TZID=America/New_York:20250302T120000
DTSTAMP:20260421T174429
CREATED:20241229T215045Z
LAST-MODIFIED:20241229T215045Z
UID:1796-1740916800-1740916800@fromtheinfield.com
SUMMARY:Firestone Grand Prix of St. Petersburg
DESCRIPTION:
URL:https://fromtheinfield.com/index.php/scedules/firestone-grand-prix-of-st-petersburg/
LOCATION:St. Petersburg Street Course\, 400 1st St SE\, St. Petersburg\, FL\, 33701\, United States
CATEGORIES:INDYCAR
ATTACH;FMTTYPE=image/png:https://fromtheinfield.com/wp-content/uploads/2023/12/INDYCAR.png
END:VEVENT
END:VCALENDAR