BEGIN:VCALENDAR
VERSION:2.0
PRODID:-//From The Infield - ECPv6.2.8.2//NONSGML v1.0//EN
CALSCALE:GREGORIAN
METHOD:PUBLISH
X-WR-CALNAME:From The Infield
X-ORIGINAL-URL:https://fromtheinfield.com
X-WR-CALDESC:Events for From The Infield
REFRESH-INTERVAL;VALUE=DURATION:PT1H
X-Robots-Tag:noindex
X-PUBLISHED-TTL:PT1H
BEGIN:VTIMEZONE
TZID:America/New_York
BEGIN:DAYLIGHT
TZOFFSETFROM:-0500
TZOFFSETTO:-0400
TZNAME:EDT
DTSTART:20250309T070000
END:DAYLIGHT
BEGIN:STANDARD
TZOFFSETFROM:-0400
TZOFFSETTO:-0500
TZNAME:EST
DTSTART:20251102T060000
END:STANDARD
END:VTIMEZONE
BEGIN:VEVENT
DTSTART;VALUE=DATE:20250619
DTEND;VALUE=DATE:20250622
DTSTAMP:20260421T095944
CREATED:20241228T040545Z
LAST-MODIFIED:20241228T040545Z
UID:1786-1750291200-1750550399@fromtheinfield.com
SUMMARY:2025 Watkins Glen International
DESCRIPTION:
URL:https://fromtheinfield.com/index.php/scedules/2025-watkins-glen-international/
LOCATION:Watkins Glen International\, 2790 County Route 16\, Watkins Glen\, NY\, 14891\, United States
CATEGORIES:pilot challenge
ATTACH;FMTTYPE=image/png:https://fromtheinfield.com/wp-content/uploads/2024/02/pilot-challenge.png
END:VEVENT
END:VCALENDAR