BEGIN:VCALENDAR
VERSION:2.0
PRODID:-//From The Infield - ECPv6.2.8.2//NONSGML v1.0//EN
CALSCALE:GREGORIAN
METHOD:PUBLISH
X-ORIGINAL-URL:https://fromtheinfield.com
X-WR-CALDESC:Events for From The Infield
REFRESH-INTERVAL;VALUE=DURATION:PT1H
X-Robots-Tag:noindex
X-PUBLISHED-TTL:PT1H
BEGIN:VTIMEZONE
TZID:America/New_York
BEGIN:DAYLIGHT
TZOFFSETFROM:-0500
TZOFFSETTO:-0400
TZNAME:EDT
DTSTART:20250309T070000
END:DAYLIGHT
BEGIN:STANDARD
TZOFFSETFROM:-0400
TZOFFSETTO:-0500
TZNAME:EST
DTSTART:20251102T060000
END:STANDARD
END:VTIMEZONE
BEGIN:VEVENT
DTSTART;VALUE=DATE:20250711
DTEND;VALUE=DATE:20250714
DTSTAMP:20260421T082526
CREATED:20241228T040545Z
LAST-MODIFIED:20241228T040545Z
UID:1787-1752192000-1752451199@fromtheinfield.com
SUMMARY:2025 Canadian Tire Motorsport Park 120
DESCRIPTION:
URL:https://fromtheinfield.com/index.php/scedules/2025-canadian-tire-motorsport-park-120/
LOCATION:Canadian Tire Motorsport Park\, 3233 Concession Rd 10\, Bowmanville\, ON\, L1C 3K6\, Canada
CATEGORIES:pilot challenge
ATTACH;FMTTYPE=image/png:https://fromtheinfield.com/wp-content/uploads/2024/02/pilot-challenge.png
END:VEVENT
END:VCALENDAR