BEGIN:VCALENDAR
VERSION:2.0
PRODID:-//From The Infield - ECPv6.2.8.2//NONSGML v1.0//EN
CALSCALE:GREGORIAN
METHOD:PUBLISH
X-ORIGINAL-URL:https://fromtheinfield.com
X-WR-CALDESC:Events for From The Infield
REFRESH-INTERVAL;VALUE=DURATION:PT1H
X-Robots-Tag:noindex
X-PUBLISHED-TTL:PT1H
BEGIN:VTIMEZONE
TZID:America/New_York
BEGIN:DAYLIGHT
TZOFFSETFROM:-0500
TZOFFSETTO:-0400
TZNAME:EDT
DTSTART:20250309T070000
END:DAYLIGHT
BEGIN:STANDARD
TZOFFSETFROM:-0400
TZOFFSETTO:-0500
TZNAME:EST
DTSTART:20251102T060000
END:STANDARD
END:VTIMEZONE
BEGIN:VEVENT
DTSTART;VALUE=DATE:20250822
DTEND;VALUE=DATE:20250825
DTSTAMP:20260421T065557
CREATED:20241228T040546Z
LAST-MODIFIED:20241228T040546Z
UID:1789-1755820800-1756079999@fromtheinfield.com
SUMMARY:2025 Virginia Is For Racing Lovers Grand Prix
DESCRIPTION:
URL:https://fromtheinfield.com/index.php/scedules/2025-virginia-is-for-racing-lovers-grand-prix/
LOCATION:VIRginia International Raceway\, 1245 Pine Tree Rd\, Alton\, VA\, 24520\, United States
CATEGORIES:pilot challenge
ATTACH;FMTTYPE=image/png:https://fromtheinfield.com/wp-content/uploads/2024/02/pilot-challenge.png
END:VEVENT
END:VCALENDAR